BEGIN:VCALENDAR
PRODID:http://www.kufer.de/kuferweb / DE
VERSION:2.0
METHOD:PUBLISH
CALSCALE:GREGORIAN
X-WR-TIMEZONE:Europe/Berlin
BEGIN:VTIMEZONE
TZID:Europe/Berlin
X-LIC-LOCATION:Europe/Berlin
BEGIN:DAYLIGHT
TZOFFSETFROM:+0100
TZOFFSETTO:+0200
TZNAME:CEST
DTSTART;TZID=Europe/Berlin:19700329T020000
RRULE:FREQ=YEARLY;INTERVAL=1;BYDAY=-1SU;BYMONTH=3
END:DAYLIGHT
BEGIN:STANDARD
TZOFFSETFROM:+0200
TZOFFSETTO:+0100
TZNAME:CET
DTSTART;TZID=Europe/Berlin:19701025T030000
RRULE:FREQ=YEARLY;INTERVAL=1;BYDAY=-1SU;BYMONTH=10
END:STANDARD
END:VTIMEZONE
BEGIN:VEVENT
DTSTAMP:20260422T104912
DTSTART;TZID=Europe/Berlin:20260307T133000
DTEND;TZID=Europe/Berlin:20260307T150000
UID:BC77221-20260307T133000@STADTVHSBALINGEN
SUMMARY:Scratch - Club - Lerne spielerisch programmieren 8-12 Jahre (BC77221) 
LOCATION:vhs-Zentrum Weilstetten; Grauenstein 18; Raum 25, Grauenstein 18, 72336 Balingen
END:VEVENT
BEGIN:VEVENT
DTSTAMP:20260422T104912
DTSTART;TZID=Europe/Berlin:20260314T133000
DTEND;TZID=Europe/Berlin:20260314T150000
UID:BC77221-20260314T133000@STADTVHSBALINGEN
SUMMARY:Scratch - Club - Lerne spielerisch programmieren 8-12 Jahre (BC77221) 
LOCATION:vhs-Zentrum Weilstetten; Grauenstein 18; Raum 25, Grauenstein 18, 72336 Balingen
END:VEVENT
BEGIN:VEVENT
DTSTAMP:20260422T104912
DTSTART;TZID=Europe/Berlin:20260321T133000
DTEND;TZID=Europe/Berlin:20260321T150000
UID:BC77221-20260321T133000@STADTVHSBALINGEN
SUMMARY:Scratch - Club - Lerne spielerisch programmieren 8-12 Jahre (BC77221) 
LOCATION:vhs-Zentrum Weilstetten; Grauenstein 18; Raum 25, Grauenstein 18, 72336 Balingen
END:VEVENT
BEGIN:VEVENT
DTSTAMP:20260422T104912
DTSTART;TZID=Europe/Berlin:20260418T133000
DTEND;TZID=Europe/Berlin:20260418T150000
UID:BC77221-20260418T133000@STADTVHSBALINGEN
SUMMARY:Scratch - Club - Lerne spielerisch programmieren 8-12 Jahre (BC77221) 
LOCATION:vhs-Zentrum Weilstetten; Grauenstein 18; Raum 25, Grauenstein 18, 72336 Balingen
END:VEVENT
BEGIN:VEVENT
DTSTAMP:20260422T104912
DTSTART;TZID=Europe/Berlin:20260425T133000
DTEND;TZID=Europe/Berlin:20260425T150000
UID:BC77221-20260425T133000@STADTVHSBALINGEN
SUMMARY:Scratch - Club - Lerne spielerisch programmieren 8-12 Jahre (BC77221) 
LOCATION:vhs-Zentrum Weilstetten; Grauenstein 18; Raum 25, Grauenstein 18, 72336 Balingen
END:VEVENT
BEGIN:VEVENT
DTSTAMP:20260422T104912
DTSTART;TZID=Europe/Berlin:20260502T133000
DTEND;TZID=Europe/Berlin:20260502T150000
UID:BC77221-20260502T133000@STADTVHSBALINGEN
SUMMARY:Scratch - Club - Lerne spielerisch programmieren 8-12 Jahre (BC77221) 
LOCATION:vhs-Zentrum Weilstetten; Grauenstein 18; Raum 25, Grauenstein 18, 72336 Balingen
END:VEVENT
BEGIN:VEVENT
DTSTAMP:20260422T104912
DTSTART;TZID=Europe/Berlin:20260509T133000
DTEND;TZID=Europe/Berlin:20260509T150000
UID:BC77221-20260509T133000@STADTVHSBALINGEN
SUMMARY:Scratch - Club - Lerne spielerisch programmieren 8-12 Jahre (BC77221) 
LOCATION:vhs-Zentrum Weilstetten; Grauenstein 18; Raum 25, Grauenstein 18, 72336 Balingen
END:VEVENT
BEGIN:VEVENT
DTSTAMP:20260422T104912
DTSTART;TZID=Europe/Berlin:20260516T133000
DTEND;TZID=Europe/Berlin:20260516T150000
UID:BC77221-20260516T133000@STADTVHSBALINGEN
DESCRIPTION:Ersatz für Ausfall am 28.03.2026
SUMMARY:Scratch - Club - Lerne spielerisch programmieren 8-12 Jahre (BC77221) 
LOCATION:vhs-Zentrum Weilstetten; Grauenstein 18; Raum 25, Grauenstein 18, 72336 Balingen
END:VEVENT
END:VCALENDAR