BEGIN:VCALENDAR
PRODID:http://www.kufer.de/kuferweb / DE
VERSION:2.0
METHOD:PUBLISH
CALSCALE:GREGORIAN
X-WR-TIMEZONE:Europe/Berlin
BEGIN:VTIMEZONE
TZID:Europe/Berlin
X-LIC-LOCATION:Europe/Berlin
BEGIN:DAYLIGHT
TZOFFSETFROM:+0100
TZOFFSETTO:+0200
TZNAME:CEST
DTSTART;TZID=Europe/Berlin:19700329T020000
RRULE:FREQ=YEARLY;INTERVAL=1;BYDAY=-1SU;BYMONTH=3
END:DAYLIGHT
BEGIN:STANDARD
TZOFFSETFROM:+0200
TZOFFSETTO:+0100
TZNAME:CET
DTSTART;TZID=Europe/Berlin:19701025T030000
RRULE:FREQ=YEARLY;INTERVAL=1;BYDAY=-1SU;BYMONTH=10
END:STANDARD
END:VTIMEZONE
BEGIN:VEVENT
DTSTAMP:20260423T105131
DTSTART;TZID=Europe/Berlin:20260318T153000
DTEND;TZID=Europe/Berlin:20260318T170000
UID:BC77212-20260318T153000@STADTVHSBALINGEN
SUMMARY:Computerschreiben: 10-Finger-System in 10 Terminen - für Schüler ab der 3. Klasse (BC77212) 
LOCATION:vhs-Zentrum Weilstetten; Grauenstein 18; Raum 22, Grauenstein 18, 72336 Balingen
END:VEVENT
BEGIN:VEVENT
DTSTAMP:20260423T105131
DTSTART;TZID=Europe/Berlin:20260325T153000
DTEND;TZID=Europe/Berlin:20260325T170000
UID:BC77212-20260325T153000@STADTVHSBALINGEN
SUMMARY:Computerschreiben: 10-Finger-System in 10 Terminen - für Schüler ab der 3. Klasse (BC77212) 
LOCATION:vhs-Zentrum Weilstetten; Grauenstein 18; Raum 22, Grauenstein 18, 72336 Balingen
END:VEVENT
BEGIN:VEVENT
DTSTAMP:20260423T105131
DTSTART;TZID=Europe/Berlin:20260415T153000
DTEND;TZID=Europe/Berlin:20260415T170000
UID:BC77212-20260415T153000@STADTVHSBALINGEN
SUMMARY:Computerschreiben: 10-Finger-System in 10 Terminen - für Schüler ab der 3. Klasse (BC77212) 
LOCATION:vhs-Zentrum Weilstetten; Grauenstein 18; Raum 22, Grauenstein 18, 72336 Balingen
END:VEVENT
BEGIN:VEVENT
DTSTAMP:20260423T105131
DTSTART;TZID=Europe/Berlin:20260422T153000
DTEND;TZID=Europe/Berlin:20260422T170000
UID:BC77212-20260422T153000@STADTVHSBALINGEN
SUMMARY:Computerschreiben: 10-Finger-System in 10 Terminen - für Schüler ab der 3. Klasse (BC77212) 
LOCATION:vhs-Zentrum Weilstetten; Grauenstein 18; Raum 22, Grauenstein 18, 72336 Balingen
END:VEVENT
BEGIN:VEVENT
DTSTAMP:20260423T105131
DTSTART;TZID=Europe/Berlin:20260429T153000
DTEND;TZID=Europe/Berlin:20260429T170000
UID:BC77212-20260429T153000@STADTVHSBALINGEN
SUMMARY:Computerschreiben: 10-Finger-System in 10 Terminen - für Schüler ab der 3. Klasse (BC77212) 
LOCATION:vhs-Zentrum Weilstetten; Grauenstein 18; Raum 22, Grauenstein 18, 72336 Balingen
END:VEVENT
BEGIN:VEVENT
DTSTAMP:20260423T105131
DTSTART;TZID=Europe/Berlin:20260506T153000
DTEND;TZID=Europe/Berlin:20260506T170000
UID:BC77212-20260506T153000@STADTVHSBALINGEN
SUMMARY:Computerschreiben: 10-Finger-System in 10 Terminen - für Schüler ab der 3. Klasse (BC77212) 
LOCATION:vhs-Zentrum Weilstetten; Grauenstein 18; Raum 22, Grauenstein 18, 72336 Balingen
END:VEVENT
BEGIN:VEVENT
DTSTAMP:20260423T105131
DTSTART;TZID=Europe/Berlin:20260513T153000
DTEND;TZID=Europe/Berlin:20260513T170000
UID:BC77212-20260513T153000@STADTVHSBALINGEN
SUMMARY:Computerschreiben: 10-Finger-System in 10 Terminen - für Schüler ab der 3. Klasse (BC77212) 
LOCATION:vhs-Zentrum Weilstetten; Grauenstein 18; Raum 22, Grauenstein 18, 72336 Balingen
END:VEVENT
BEGIN:VEVENT
DTSTAMP:20260423T105131
DTSTART;TZID=Europe/Berlin:20260520T153000
DTEND;TZID=Europe/Berlin:20260520T170000
UID:BC77212-20260520T153000@STADTVHSBALINGEN
SUMMARY:Computerschreiben: 10-Finger-System in 10 Terminen - für Schüler ab der 3. Klasse (BC77212) 
LOCATION:vhs-Zentrum Weilstetten; Grauenstein 18; Raum 22, Grauenstein 18, 72336 Balingen
END:VEVENT
BEGIN:VEVENT
DTSTAMP:20260423T105131
DTSTART;TZID=Europe/Berlin:20260617T153000
DTEND;TZID=Europe/Berlin:20260617T170000
UID:BC77212-20260617T153000@STADTVHSBALINGEN
SUMMARY:Computerschreiben: 10-Finger-System in 10 Terminen - für Schüler ab der 3. Klasse (BC77212) 
LOCATION:vhs-Zentrum Weilstetten; Grauenstein 18; Raum 22, Grauenstein 18, 72336 Balingen
END:VEVENT
BEGIN:VEVENT
DTSTAMP:20260423T105131
DTSTART;TZID=Europe/Berlin:20260624T153000
DTEND;TZID=Europe/Berlin:20260624T170000
UID:BC77212-20260624T153000@STADTVHSBALINGEN
SUMMARY:Computerschreiben: 10-Finger-System in 10 Terminen - für Schüler ab der 3. Klasse (BC77212) 
LOCATION:vhs-Zentrum Weilstetten; Grauenstein 18; Raum 22, Grauenstein 18, 72336 Balingen
END:VEVENT
END:VCALENDAR